BEGIN:VCALENDAR
VERSION:2.0
PRODID:-//River Road Church, Baptist - ECPv6.15.14//NONSGML v1.0//EN
CALSCALE:GREGORIAN
METHOD:PUBLISH
X-ORIGINAL-URL:https://rrcb.org
X-WR-CALDESC:Events for River Road Church, Baptist
REFRESH-INTERVAL;VALUE=DURATION:PT1H
X-Robots-Tag:noindex
X-PUBLISHED-TTL:PT1H
BEGIN:VTIMEZONE
TZID:America/New_York
BEGIN:DAYLIGHT
TZOFFSETFROM:-0500
TZOFFSETTO:-0400
TZNAME:EDT
DTSTART:20230312T070000
END:DAYLIGHT
BEGIN:STANDARD
TZOFFSETFROM:-0400
TZOFFSETTO:-0500
TZNAME:EST
DTSTART:20231105T060000
END:STANDARD
BEGIN:DAYLIGHT
TZOFFSETFROM:-0500
TZOFFSETTO:-0400
TZNAME:EDT
DTSTART:20240310T070000
END:DAYLIGHT
BEGIN:STANDARD
TZOFFSETFROM:-0400
TZOFFSETTO:-0500
TZNAME:EST
DTSTART:20241103T060000
END:STANDARD
BEGIN:DAYLIGHT
TZOFFSETFROM:-0500
TZOFFSETTO:-0400
TZNAME:EDT
DTSTART:20250309T070000
END:DAYLIGHT
BEGIN:STANDARD
TZOFFSETFROM:-0400
TZOFFSETTO:-0500
TZNAME:EST
DTSTART:20251102T060000
END:STANDARD
END:VTIMEZONE
BEGIN:VEVENT
DTSTART;TZID=America/New_York:20241113T083000
DTEND;TZID=America/New_York:20241113T093000
DTSTAMP:20260419T160109
CREATED:20240117T172327Z
LAST-MODIFIED:20240120T195537Z
UID:30000059-1731486600-1731490200@rrcb.org
SUMMARY:Men's Group: The Huddle
DESCRIPTION:Time & Location: 8:30 a.m. in the Founders Room
URL:https://rrcb.org/event/mens-group-the-huddle/2024-11-13/
LOCATION:Founders Room
CATEGORIES:Events,Small Group
END:VEVENT
BEGIN:VEVENT
DTSTART;TZID=America/New_York:20241113T091500
DTEND;TZID=America/New_York:20241113T094500
DTSTAMP:20260419T160109
CREATED:20241106T221758Z
LAST-MODIFIED:20241106T221812Z
UID:30002160-1731489300-1731491100@rrcb.org
SUMMARY:Preschool Chapel
DESCRIPTION:Time & Location: 9:15 a.m. in the Sanctuary
URL:https://rrcb.org/event/preschool-chapel-2/2024-11-13/
LOCATION:Sanctuary\, 8000 River Road\, Richmond\, VA\, 23229\, United States
CATEGORIES:Events,Preschool
ATTACH;FMTTYPE=image/jpeg:https://rrcb.org/wp-content/uploads/2023/12/IMG_2170.jpg
END:VEVENT
BEGIN:VEVENT
DTSTART;TZID=America/New_York:20241113T190000
DTEND;TZID=America/New_York:20241113T210000
DTSTAMP:20260419T160109
CREATED:20240117T185641Z
LAST-MODIFIED:20240808T190136Z
UID:30000112-1731524400-1731531600@rrcb.org
SUMMARY:Chancel Choir Rehearsal
DESCRIPTION:Time & Location: 7:00 p.m. in the Main Rehearsal Room
URL:https://rrcb.org/event/chancel-choir-rehearsal/2024-11-13/
LOCATION:VA
CATEGORIES:Music
END:VEVENT
END:VCALENDAR